BEGIN:VCALENDAR
VERSION:2.0
PRODID:-//Legacy League Baseball - ECPv6.15.20//NONSGML v1.0//EN
CALSCALE:GREGORIAN
METHOD:PUBLISH
X-WR-CALNAME:Legacy League Baseball
X-ORIGINAL-URL:https://legacyleaguebaseball.com
X-WR-CALDESC:Events for Legacy League Baseball
REFRESH-INTERVAL;VALUE=DURATION:PT1H
X-Robots-Tag:noindex
X-PUBLISHED-TTL:PT1H
BEGIN:VTIMEZONE
TZID:America/Chicago
BEGIN:DAYLIGHT
TZOFFSETFROM:-0600
TZOFFSETTO:-0500
TZNAME:CDT
DTSTART:20250309T080000
END:DAYLIGHT
BEGIN:STANDARD
TZOFFSETFROM:-0500
TZOFFSETTO:-0600
TZNAME:CST
DTSTART:20251102T070000
END:STANDARD
BEGIN:DAYLIGHT
TZOFFSETFROM:-0600
TZOFFSETTO:-0500
TZNAME:CDT
DTSTART:20260308T080000
END:DAYLIGHT
BEGIN:STANDARD
TZOFFSETFROM:-0500
TZOFFSETTO:-0600
TZNAME:CST
DTSTART:20261101T070000
END:STANDARD
BEGIN:DAYLIGHT
TZOFFSETFROM:-0600
TZOFFSETTO:-0500
TZNAME:CDT
DTSTART:20270314T080000
END:DAYLIGHT
BEGIN:STANDARD
TZOFFSETFROM:-0500
TZOFFSETTO:-0600
TZNAME:CST
DTSTART:20271107T070000
END:STANDARD
END:VTIMEZONE
BEGIN:VEVENT
DTSTART;TZID=America/Chicago:20260602T190000
DTEND;TZID=America/Chicago:20260602T210000
DTSTAMP:20260423T114614
CREATED:20251211T182641Z
LAST-MODIFIED:20260415T220251Z
UID:10000356-1780426800-1780434000@legacyleaguebaseball.com
SUMMARY:Development Day
DESCRIPTION:
URL:https://legacyleaguebaseball.com/event/development-2026-06-02/
LOCATION:Smith-Wills Stadium\, 1200 Lakeland Dr\, Jackson\, MS\, 39216\, United States
CATEGORIES:Brandon (BRN),Clutch Batters/Clinton(CLN),Flowood (FLW),Jackson (JXN),Madison (MAD),Ridgeland (RDG)
END:VEVENT
BEGIN:VEVENT
DTSTART;TZID=America/Chicago:20260603T190000
DTEND;TZID=America/Chicago:20260603T210000
DTSTAMP:20260423T114614
CREATED:20251211T182856Z
LAST-MODIFIED:20260415T220356Z
UID:10000359-1780513200-1780520400@legacyleaguebaseball.com
SUMMARY:Development Day
DESCRIPTION:
URL:https://legacyleaguebaseball.com/event/development-day-2026-06-03/
LOCATION:Smith-Wills Stadium\, 1200 Lakeland Dr\, Jackson\, MS\, 39216\, United States
CATEGORIES:Brandon (BRN),Clutch Batters/Clinton(CLN),Flowood (FLW),Jackson (JXN),Madison (MAD),Ridgeland (RDG)
END:VEVENT
BEGIN:VEVENT
DTSTART;TZID=America/Chicago:20260604T130000
DTEND;TZID=America/Chicago:20260604T150000
DTSTAMP:20260423T114614
CREATED:20251211T183006Z
LAST-MODIFIED:20260415T221329Z
UID:10000360-1780578000-1780585200@legacyleaguebaseball.com
SUMMARY:Madison Mockingbirds vs New Jack City
DESCRIPTION:
URL:https://legacyleaguebaseball.com/event/madison-vs-jackson-2026-06-04/
LOCATION:Smith-Wills Stadium\, 1200 Lakeland Dr\, Jackson\, MS\, 39216\, United States
CATEGORIES:Jackson (JXN),Madison (MAD)
END:VEVENT
BEGIN:VEVENT
DTSTART;TZID=America/Chicago:20260604T160000
DTEND;TZID=America/Chicago:20260604T180000
DTSTAMP:20260423T114614
CREATED:20251211T183051Z
LAST-MODIFIED:20260415T221341Z
UID:10000361-1780588800-1780596000@legacyleaguebaseball.com
SUMMARY:Brandon Reservoir Dogs vs Flowood Flyers
DESCRIPTION:
URL:https://legacyleaguebaseball.com/event/brandon-vs-flowood-2026-06-04/
LOCATION:Smith-Wills Stadium\, 1200 Lakeland Dr\, Jackson\, MS\, 39216\, United States
CATEGORIES:Brandon (BRN),Flowood (FLW)
END:VEVENT
BEGIN:VEVENT
DTSTART;TZID=America/Chicago:20260604T190000
DTEND;TZID=America/Chicago:20260604T210000
DTSTAMP:20260423T114614
CREATED:20251211T183136Z
LAST-MODIFIED:20260415T221352Z
UID:10000362-1780599600-1780606800@legacyleaguebaseball.com
SUMMARY:Clinton Big Wheels vs Ridgeland Roosters
DESCRIPTION:
URL:https://legacyleaguebaseball.com/event/clinton-vs-ridgeland-2026-06-04/
LOCATION:Smith-Wills Stadium\, 1200 Lakeland Dr\, Jackson\, MS\, 39216\, United States
CATEGORIES:Clutch Batters/Clinton(CLN),Ridgeland (RDG)
END:VEVENT
BEGIN:VEVENT
DTSTART;TZID=America/Chicago:20260605T130000
DTEND;TZID=America/Chicago:20260605T150000
DTSTAMP:20260423T114614
CREATED:20251211T183222Z
LAST-MODIFIED:20260415T221409Z
UID:10000363-1780664400-1780671600@legacyleaguebaseball.com
SUMMARY:New Jack City vs Madison Mockingbirds
DESCRIPTION:
URL:https://legacyleaguebaseball.com/event/jackson-vs-madison-2026-06-05/
LOCATION:Smith-Wills Stadium\, 1200 Lakeland Dr\, Jackson\, MS\, 39216\, United States
CATEGORIES:Jackson (JXN),Madison (MAD)
END:VEVENT
BEGIN:VEVENT
DTSTART;TZID=America/Chicago:20260605T160000
DTEND;TZID=America/Chicago:20260605T180000
DTSTAMP:20260423T114614
CREATED:20251211T183301Z
LAST-MODIFIED:20260415T221453Z
UID:10000364-1780675200-1780682400@legacyleaguebaseball.com
SUMMARY:Ridgeland Roosters vs Brandon Reservoir Dogs
DESCRIPTION:
URL:https://legacyleaguebaseball.com/event/ridgeland-vs-brandon-2026-06-05/
LOCATION:Smith-Wills Stadium\, 1200 Lakeland Dr\, Jackson\, MS\, 39216\, United States
CATEGORIES:Brandon (BRN),Ridgeland (RDG)
END:VEVENT
BEGIN:VEVENT
DTSTART;TZID=America/Chicago:20260605T190000
DTEND;TZID=America/Chicago:20260605T210000
DTSTAMP:20260423T114614
CREATED:20251211T183346Z
LAST-MODIFIED:20260415T221516Z
UID:10000365-1780686000-1780693200@legacyleaguebaseball.com
SUMMARY:Flowood Flyers vs Clinton Big Wheels
DESCRIPTION:
URL:https://legacyleaguebaseball.com/event/madison-vs-ridgeland-2026-06-05/
LOCATION:Smith-Wills Stadium\, 1200 Lakeland Dr\, Jackson\, MS\, 39216\, United States
CATEGORIES:Clutch Batters/Clinton(CLN),Flowood (FLW)
END:VEVENT
BEGIN:VEVENT
DTSTART;TZID=America/Chicago:20260606T130000
DTEND;TZID=America/Chicago:20260606T150000
DTSTAMP:20260423T114614
CREATED:20251211T183433Z
LAST-MODIFIED:20260415T221619Z
UID:10000366-1780750800-1780758000@legacyleaguebaseball.com
SUMMARY:Flowood Flyers vs Brandon Reservoir Dogs
DESCRIPTION:
URL:https://legacyleaguebaseball.com/event/flowodd-vs-brandon-2026-06-06/
LOCATION:Smith-Wills Stadium\, 1200 Lakeland Dr\, Jackson\, MS\, 39216\, United States
CATEGORIES:Brandon (BRN),Flowood (FLW)
END:VEVENT
BEGIN:VEVENT
DTSTART;TZID=America/Chicago:20260606T160000
DTEND;TZID=America/Chicago:20260606T180000
DTSTAMP:20260423T114614
CREATED:20251211T183516Z
LAST-MODIFIED:20260415T221706Z
UID:10000367-1780761600-1780768800@legacyleaguebaseball.com
SUMMARY:Clinton Big Wheels vs Ridgeland Roosters
DESCRIPTION:
URL:https://legacyleaguebaseball.com/event/clinton-vs-ridgeland-2026-06-06/
LOCATION:Smith-Wills Stadium\, 1200 Lakeland Dr\, Jackson\, MS\, 39216\, United States
CATEGORIES:Clutch Batters/Clinton(CLN),Ridgeland (RDG)
END:VEVENT
BEGIN:VEVENT
DTSTART;TZID=America/Chicago:20260606T190000
DTEND;TZID=America/Chicago:20260606T210000
DTSTAMP:20260423T114614
CREATED:20251211T183555Z
LAST-MODIFIED:20260415T221742Z
UID:10000368-1780772400-1780779600@legacyleaguebaseball.com
SUMMARY:New Jack City vs Madison Mockingbirds
DESCRIPTION:
URL:https://legacyleaguebaseball.com/event/jackson-vs-madison-2026-06-06/
LOCATION:Smith-Wills Stadium\, 1200 Lakeland Dr\, Jackson\, MS\, 39216\, United States
CATEGORIES:Jackson (JXN),Madison (MAD)
END:VEVENT
BEGIN:VEVENT
DTSTART;TZID=America/Chicago:20260607T130000
DTEND;TZID=America/Chicago:20260607T150000
DTSTAMP:20260423T114614
CREATED:20251211T183647Z
LAST-MODIFIED:20260415T222033Z
UID:10000369-1780837200-1780844400@legacyleaguebaseball.com
SUMMARY:Madison Mockingbirds vs Ridgeland Roosters
DESCRIPTION:
URL:https://legacyleaguebaseball.com/event/madison-vs-ridgeland-2026-06-07/
LOCATION:Smith-Wills Stadium\, 1200 Lakeland Dr\, Jackson\, MS\, 39216\, United States
CATEGORIES:Madison (MAD),Ridgeland (RDG)
END:VEVENT
BEGIN:VEVENT
DTSTART;TZID=America/Chicago:20260607T160000
DTEND;TZID=America/Chicago:20260607T180000
DTSTAMP:20260423T114614
CREATED:20251211T183730Z
LAST-MODIFIED:20260415T222220Z
UID:10000370-1780848000-1780855200@legacyleaguebaseball.com
SUMMARY:New Jack City vs Flowood Flyers
DESCRIPTION:
URL:https://legacyleaguebaseball.com/event/jackson-vs-flowood-2026-06-07/
LOCATION:Smith-Wills Stadium\, 1200 Lakeland Dr\, Jackson\, MS\, 39216\, United States
CATEGORIES:Flowood (FLW),Jackson (JXN)
END:VEVENT
BEGIN:VEVENT
DTSTART;TZID=America/Chicago:20260607T190000
DTEND;TZID=America/Chicago:20260607T210000
DTSTAMP:20260423T114614
CREATED:20251211T183809Z
LAST-MODIFIED:20260415T222259Z
UID:10000371-1780858800-1780866000@legacyleaguebaseball.com
SUMMARY:Clinton Big Wheels vs Brandon Reservoir Dogs
DESCRIPTION:
URL:https://legacyleaguebaseball.com/event/clinton-vs-brandon-2026-06-07/
LOCATION:Smith-Wills Stadium\, 1200 Lakeland Dr\, Jackson\, MS\, 39216\, United States
CATEGORIES:Brandon (BRN),Clutch Batters/Clinton(CLN)
END:VEVENT
BEGIN:VEVENT
DTSTART;TZID=America/Chicago:20260609T190000
DTEND;TZID=America/Chicago:20260609T210000
DTSTAMP:20260423T114614
CREATED:20251211T184021Z
LAST-MODIFIED:20260415T222403Z
UID:10000374-1781031600-1781038800@legacyleaguebaseball.com
SUMMARY:Development Day
DESCRIPTION:
URL:https://legacyleaguebaseball.com/event/development-2026-06-09/
LOCATION:Smith-Wills Stadium\, 1200 Lakeland Dr\, Jackson\, MS\, 39216\, United States
CATEGORIES:Brandon (BRN),Clutch Batters/Clinton(CLN),Flowood (FLW),Jackson (JXN),Madison (MAD),Ridgeland (RDG)
END:VEVENT
BEGIN:VEVENT
DTSTART;TZID=America/Chicago:20260610T190000
DTEND;TZID=America/Chicago:20260610T210000
DTSTAMP:20260423T114614
CREATED:20251211T184229Z
LAST-MODIFIED:20260415T222420Z
UID:10000377-1781118000-1781125200@legacyleaguebaseball.com
SUMMARY:Development Day
DESCRIPTION:
URL:https://legacyleaguebaseball.com/event/development-2026-06-10/
LOCATION:Smith-Wills Stadium\, 1200 Lakeland Dr\, Jackson\, MS\, 39216\, United States
CATEGORIES:Brandon (BRN),Clutch Batters/Clinton(CLN),Flowood (FLW),Jackson (JXN),Madison (MAD),Ridgeland (RDG)
END:VEVENT
BEGIN:VEVENT
DTSTART;TZID=America/Chicago:20260611T130000
DTEND;TZID=America/Chicago:20260611T150000
DTSTAMP:20260423T114614
CREATED:20251211T184314Z
LAST-MODIFIED:20260415T222459Z
UID:10000378-1781182800-1781190000@legacyleaguebaseball.com
SUMMARY:Madison Mockingbirds vs Clinton Big Wheels
DESCRIPTION:
URL:https://legacyleaguebaseball.com/event/madison-vs-clinton-2026-06-11/
LOCATION:Smith-Wills Stadium\, 1200 Lakeland Dr\, Jackson\, MS\, 39216\, United States
CATEGORIES:Clutch Batters/Clinton(CLN),Madison (MAD)
END:VEVENT
BEGIN:VEVENT
DTSTART;TZID=America/Chicago:20260611T160000
DTEND;TZID=America/Chicago:20260611T180000
DTSTAMP:20260423T114614
CREATED:20251211T184358Z
LAST-MODIFIED:20260415T222526Z
UID:10000379-1781193600-1781200800@legacyleaguebaseball.com
SUMMARY:Brandon Reservoir Dogs vs Flowood Flyers
DESCRIPTION:
URL:https://legacyleaguebaseball.com/event/brandon-vs-flowood-2026-06-11/
LOCATION:Smith-Wills Stadium\, 1200 Lakeland Dr\, Jackson\, MS\, 39216\, United States
CATEGORIES:Brandon (BRN),Flowood (FLW)
END:VEVENT
BEGIN:VEVENT
DTSTART;TZID=America/Chicago:20260611T190000
DTEND;TZID=America/Chicago:20260611T210000
DTSTAMP:20260423T114614
CREATED:20251211T184438Z
LAST-MODIFIED:20260415T222552Z
UID:10000380-1781204400-1781211600@legacyleaguebaseball.com
SUMMARY:Clinton Big Wheels vs Ridgeland Roosters
DESCRIPTION:
URL:https://legacyleaguebaseball.com/event/clinton-vs-ridgeland-2026-06-11/
LOCATION:Smith-Wills Stadium\, 1200 Lakeland Dr\, Jackson\, MS\, 39216\, United States
CATEGORIES:Clutch Batters/Clinton(CLN),Ridgeland (RDG)
END:VEVENT
BEGIN:VEVENT
DTSTART;TZID=America/Chicago:20260612T130000
DTEND;TZID=America/Chicago:20260612T150000
DTSTAMP:20260423T114614
CREATED:20251211T184530Z
LAST-MODIFIED:20260415T222653Z
UID:10000381-1781269200-1781276400@legacyleaguebaseball.com
SUMMARY:Brandon Reservoir Dogs vs Flowood Flyers
DESCRIPTION:
URL:https://legacyleaguebaseball.com/event/brandon-vs-flowood-2026-06-12/
LOCATION:Smith-Wills Stadium\, 1200 Lakeland Dr\, Jackson\, MS\, 39216\, United States
CATEGORIES:Brandon (BRN),Flowood (FLW)
END:VEVENT
BEGIN:VEVENT
DTSTART;TZID=America/Chicago:20260612T160000
DTEND;TZID=America/Chicago:20260612T180000
DTSTAMP:20260423T114614
CREATED:20251211T184610Z
LAST-MODIFIED:20260415T222626Z
UID:10000382-1781280000-1781287200@legacyleaguebaseball.com
SUMMARY:New Jack City vs Clinton Big Wheels
DESCRIPTION:
URL:https://legacyleaguebaseball.com/event/jackson-vs-clinton-2026-06-12/
LOCATION:Smith-Wills Stadium\, 1200 Lakeland Dr\, Jackson\, MS\, 39216\, United States
CATEGORIES:Clutch Batters/Clinton(CLN)
END:VEVENT
BEGIN:VEVENT
DTSTART;TZID=America/Chicago:20260612T190000
DTEND;TZID=America/Chicago:20260612T210000
DTSTAMP:20260423T114614
CREATED:20251211T184651Z
LAST-MODIFIED:20260415T222715Z
UID:10000383-1781290800-1781298000@legacyleaguebaseball.com
SUMMARY:Ridgeland Roosters vs Madison Mockingbirds
DESCRIPTION:
URL:https://legacyleaguebaseball.com/event/ridgeland-vs-madison-2026-06-12/
LOCATION:Smith-Wills Stadium\, 1200 Lakeland Dr\, Jackson\, MS\, 39216\, United States
CATEGORIES:Madison (MAD),Ridgeland (RDG)
END:VEVENT
BEGIN:VEVENT
DTSTART;TZID=America/Chicago:20260613T130000
DTEND;TZID=America/Chicago:20260613T150000
DTSTAMP:20260423T114614
CREATED:20251211T184734Z
LAST-MODIFIED:20260415T222813Z
UID:10000384-1781355600-1781362800@legacyleaguebaseball.com
SUMMARY:Ridgeland vs New Jack City
DESCRIPTION:
URL:https://legacyleaguebaseball.com/event/ridgeland-vs-jackson-2026-06-13/
LOCATION:Smith-Wills Stadium\, 1200 Lakeland Dr\, Jackson\, MS\, 39216\, United States
CATEGORIES:Jackson (JXN),Ridgeland (RDG)
END:VEVENT
BEGIN:VEVENT
DTSTART;TZID=America/Chicago:20260613T160000
DTEND;TZID=America/Chicago:20260613T180000
DTSTAMP:20260423T114614
CREATED:20251211T184814Z
LAST-MODIFIED:20260415T222850Z
UID:10000385-1781366400-1781373600@legacyleaguebaseball.com
SUMMARY:Flowood Flyers vs Madison Mockingbirds
DESCRIPTION:
URL:https://legacyleaguebaseball.com/event/flowood-vs-madison-2026-06-13/
LOCATION:Smith-Wills Stadium\, 1200 Lakeland Dr\, Jackson\, MS\, 39216\, United States
CATEGORIES:Flowood (FLW),Madison (MAD)
END:VEVENT
BEGIN:VEVENT
DTSTART;TZID=America/Chicago:20260613T190000
DTEND;TZID=America/Chicago:20260613T210000
DTSTAMP:20260423T114614
CREATED:20251211T184855Z
LAST-MODIFIED:20260415T222923Z
UID:10000386-1781377200-1781384400@legacyleaguebaseball.com
SUMMARY:Brandon Reservoir Dogs vs Clinton Big Wheels
DESCRIPTION:
URL:https://legacyleaguebaseball.com/event/brandon-vs-clinton-2026-06-13/
LOCATION:Smith-Wills Stadium\, 1200 Lakeland Dr\, Jackson\, MS\, 39216\, United States
CATEGORIES:Brandon (BRN),Clutch Batters/Clinton(CLN)
END:VEVENT
BEGIN:VEVENT
DTSTART;TZID=America/Chicago:20260614T130000
DTEND;TZID=America/Chicago:20260614T150000
DTSTAMP:20260423T114614
CREATED:20251211T184942Z
LAST-MODIFIED:20260415T223001Z
UID:10000387-1781442000-1781449200@legacyleaguebaseball.com
SUMMARY:Clinton Big Wheels vs Madison Mockingbirds
DESCRIPTION:
URL:https://legacyleaguebaseball.com/event/clinton-vs-madison-2026-06-14/
LOCATION:Smith-Wills Stadium\, 1200 Lakeland Dr\, Jackson\, MS\, 39216\, United States
CATEGORIES:Clutch Batters/Clinton(CLN),Madison (MAD)
END:VEVENT
BEGIN:VEVENT
DTSTART;TZID=America/Chicago:20260614T160000
DTEND;TZID=America/Chicago:20260614T180000
DTSTAMP:20260423T114614
CREATED:20251211T185021Z
LAST-MODIFIED:20260415T223038Z
UID:10000388-1781452800-1781460000@legacyleaguebaseball.com
SUMMARY:New Jack City vs Ridgeland Rooster
DESCRIPTION:
URL:https://legacyleaguebaseball.com/event/jackson-vs-ridgeland-2026-06-14/
LOCATION:Smith-Wills Stadium\, 1200 Lakeland Dr\, Jackson\, MS\, 39216\, United States
CATEGORIES:Jackson (JXN),Ridgeland (RDG)
END:VEVENT
BEGIN:VEVENT
DTSTART;TZID=America/Chicago:20260614T190000
DTEND;TZID=America/Chicago:20260614T210000
DTSTAMP:20260423T114614
CREATED:20251211T185101Z
LAST-MODIFIED:20260415T223112Z
UID:10000389-1781463600-1781470800@legacyleaguebaseball.com
SUMMARY:Brandon Reservoir Dogs vs Flowood Flyers
DESCRIPTION:
URL:https://legacyleaguebaseball.com/event/brandon-vs-flowood-2026-06-14/
LOCATION:Smith-Wills Stadium\, 1200 Lakeland Dr\, Jackson\, MS\, 39216\, United States
CATEGORIES:Brandon (BRN),Flowood (FLW)
END:VEVENT
BEGIN:VEVENT
DTSTART;TZID=America/Chicago:20260616T190000
DTEND;TZID=America/Chicago:20260616T210000
DTSTAMP:20260423T114614
CREATED:20251211T185326Z
LAST-MODIFIED:20260415T223237Z
UID:10000392-1781636400-1781643600@legacyleaguebaseball.com
SUMMARY:Development Day
DESCRIPTION:
URL:https://legacyleaguebaseball.com/event/development-day-2026-06-16/
LOCATION:Smith-Wills Stadium\, 1200 Lakeland Dr\, Jackson\, MS\, 39216\, United States
CATEGORIES:Brandon (BRN),Clutch Batters/Clinton(CLN),Flowood (FLW),Jackson (JXN),Madison (MAD),Ridgeland (RDG)
END:VEVENT
BEGIN:VEVENT
DTSTART;TZID=America/Chicago:20260617T190000
DTEND;TZID=America/Chicago:20260617T210000
DTSTAMP:20260423T114614
CREATED:20251211T185523Z
LAST-MODIFIED:20260415T223158Z
UID:10000395-1781722800-1781730000@legacyleaguebaseball.com
SUMMARY:Development Day
DESCRIPTION:
URL:https://legacyleaguebaseball.com/event/development-day-2026-06-17/
LOCATION:Smith-Wills Stadium\, 1200 Lakeland Dr\, Jackson\, MS\, 39216\, United States
CATEGORIES:Brandon (BRN),Clutch Batters/Clinton(CLN),Flowood (FLW),Jackson (JXN),Madison (MAD),Ridgeland (RDG)
END:VEVENT
END:VCALENDAR