BEGIN:VCALENDAR
VERSION:2.0
PRODID:-//Legacy League Baseball - ECPv6.15.20//NONSGML v1.0//EN
CALSCALE:GREGORIAN
METHOD:PUBLISH
X-ORIGINAL-URL:https://legacyleaguebaseball.com
X-WR-CALDESC:Events for Legacy League Baseball
REFRESH-INTERVAL;VALUE=DURATION:PT1H
X-Robots-Tag:noindex
X-PUBLISHED-TTL:PT1H
BEGIN:VTIMEZONE
TZID:America/Chicago
BEGIN:DAYLIGHT
TZOFFSETFROM:-0600
TZOFFSETTO:-0500
TZNAME:CDT
DTSTART:20250309T080000
END:DAYLIGHT
BEGIN:STANDARD
TZOFFSETFROM:-0500
TZOFFSETTO:-0600
TZNAME:CST
DTSTART:20251102T070000
END:STANDARD
BEGIN:DAYLIGHT
TZOFFSETFROM:-0600
TZOFFSETTO:-0500
TZNAME:CDT
DTSTART:20260308T080000
END:DAYLIGHT
BEGIN:STANDARD
TZOFFSETFROM:-0500
TZOFFSETTO:-0600
TZNAME:CST
DTSTART:20261101T070000
END:STANDARD
BEGIN:DAYLIGHT
TZOFFSETFROM:-0600
TZOFFSETTO:-0500
TZNAME:CDT
DTSTART:20270314T080000
END:DAYLIGHT
BEGIN:STANDARD
TZOFFSETFROM:-0500
TZOFFSETTO:-0600
TZNAME:CST
DTSTART:20271107T070000
END:STANDARD
END:VTIMEZONE
BEGIN:VEVENT
DTSTART;TZID=America/Chicago:20260526T190000
DTEND;TZID=America/Chicago:20260526T210000
DTSTAMP:20260423T104253
CREATED:20251210T210737Z
LAST-MODIFIED:20260415T215114Z
UID:10000338-1779822000-1779829200@legacyleaguebaseball.com
SUMMARY:Development Day
DESCRIPTION:
URL:https://legacyleaguebaseball.com/event/development-2026-05-26/
LOCATION:Smith-Wills Stadium\, 1200 Lakeland Dr\, Jackson\, MS\, 39216\, United States
CATEGORIES:Brandon (BRN),Clutch Batters/Clinton(CLN),Flowood (FLW),Jackson (JXN),Madison (MAD),Ridgeland (RDG)
END:VEVENT
BEGIN:VEVENT
DTSTART;TZID=America/Chicago:20260527T190000
DTEND;TZID=America/Chicago:20260527T210000
DTSTAMP:20260423T104253
CREATED:20251210T211008Z
LAST-MODIFIED:20260415T215106Z
UID:10000341-1779908400-1779915600@legacyleaguebaseball.com
SUMMARY:Development Day
DESCRIPTION:
URL:https://legacyleaguebaseball.com/event/development-2026-05-27/
LOCATION:Smith-Wills Stadium\, 1200 Lakeland Dr\, Jackson\, MS\, 39216\, United States
CATEGORIES:Brandon (BRN),Clutch Batters/Clinton(CLN),Flowood (FLW),Jackson (JXN),Madison (MAD),Ridgeland (RDG)
END:VEVENT
BEGIN:VEVENT
DTSTART;TZID=America/Chicago:20260528T190000
DTEND;TZID=America/Chicago:20260528T210000
DTSTAMP:20260423T104253
CREATED:20251210T211231Z
LAST-MODIFIED:20260415T221111Z
UID:10000344-1779994800-1780002000@legacyleaguebaseball.com
SUMMARY:Madison Mockingbirds vs New Jack City
DESCRIPTION:
URL:https://legacyleaguebaseball.com/event/madison-vs-jackson-2026-05-28/
LOCATION:Smith-Wills Stadium\, 1200 Lakeland Dr\, Jackson\, MS\, 39216\, United States
CATEGORIES:Jackson (JXN),Madison (MAD)
END:VEVENT
BEGIN:VEVENT
DTSTART;TZID=America/Chicago:20260529T130000
DTEND;TZID=America/Chicago:20260529T150000
DTSTAMP:20260423T104253
CREATED:20251210T211327Z
LAST-MODIFIED:20260415T221130Z
UID:10000345-1780059600-1780066800@legacyleaguebaseball.com
SUMMARY:New Jack City vs Madison Mockingbirds
DESCRIPTION:
URL:https://legacyleaguebaseball.com/event/jackson-vs-madison-2026-05-29/
LOCATION:Smith-Wills Stadium\, 1200 Lakeland Dr\, Jackson\, MS\, 39216\, United States
CATEGORIES:Jackson (JXN),Madison (MAD)
END:VEVENT
BEGIN:VEVENT
DTSTART;TZID=America/Chicago:20260530T160000
DTEND;TZID=America/Chicago:20260530T180000
DTSTAMP:20260423T104253
CREATED:20251210T211732Z
LAST-MODIFIED:20260415T221224Z
UID:10000349-1780156800-1780164000@legacyleaguebaseball.com
SUMMARY:Madison Mockingbirds vs New Jack City
DESCRIPTION:
URL:https://legacyleaguebaseball.com/event/madison-vs-jackson-2026-05-30/
LOCATION:Smith-Wills Stadium\, 1200 Lakeland Dr\, Jackson\, MS\, 39216\, United States
CATEGORIES:Jackson (JXN),Madison (MAD)
END:VEVENT
BEGIN:VEVENT
DTSTART;TZID=America/Chicago:20260531T190000
DTEND;TZID=America/Chicago:20260531T210000
DTSTAMP:20260423T104253
CREATED:20251210T212040Z
LAST-MODIFIED:20260415T221317Z
UID:10000353-1780254000-1780261200@legacyleaguebaseball.com
SUMMARY:New Jack City vs Brandon Reservoir Dogs
DESCRIPTION:
URL:https://legacyleaguebaseball.com/event/clinton-vs-flowood-2026-05-31/
LOCATION:Smith-Wills Stadium\, 1200 Lakeland Dr\, Jackson\, MS\, 39216\, United States
CATEGORIES:Brandon (BRN),Jackson (JXN)
END:VEVENT
END:VCALENDAR