BEGIN:VCALENDAR
VERSION:2.0
PRODID:-//Legacy League Baseball - ECPv6.15.20//NONSGML v1.0//EN
CALSCALE:GREGORIAN
METHOD:PUBLISH
X-WR-CALNAME:Legacy League Baseball
X-ORIGINAL-URL:https://legacyleaguebaseball.com
X-WR-CALDESC:Events for Legacy League Baseball
REFRESH-INTERVAL;VALUE=DURATION:PT1H
X-Robots-Tag:noindex
X-PUBLISHED-TTL:PT1H
BEGIN:VTIMEZONE
TZID:America/Chicago
BEGIN:DAYLIGHT
TZOFFSETFROM:-0600
TZOFFSETTO:-0500
TZNAME:CDT
DTSTART:20250309T080000
END:DAYLIGHT
BEGIN:STANDARD
TZOFFSETFROM:-0500
TZOFFSETTO:-0600
TZNAME:CST
DTSTART:20251102T070000
END:STANDARD
BEGIN:DAYLIGHT
TZOFFSETFROM:-0600
TZOFFSETTO:-0500
TZNAME:CDT
DTSTART:20260308T080000
END:DAYLIGHT
BEGIN:STANDARD
TZOFFSETFROM:-0500
TZOFFSETTO:-0600
TZNAME:CST
DTSTART:20261101T070000
END:STANDARD
BEGIN:DAYLIGHT
TZOFFSETFROM:-0600
TZOFFSETTO:-0500
TZNAME:CDT
DTSTART:20270314T080000
END:DAYLIGHT
BEGIN:STANDARD
TZOFFSETFROM:-0500
TZOFFSETTO:-0600
TZNAME:CST
DTSTART:20271107T070000
END:STANDARD
END:VTIMEZONE
BEGIN:VEVENT
DTSTART;TZID=America/Chicago:20260604T160000
DTEND;TZID=America/Chicago:20260604T180000
DTSTAMP:20260423T130535
CREATED:20251211T183051Z
LAST-MODIFIED:20260415T221341Z
UID:10000361-1780588800-1780596000@legacyleaguebaseball.com
SUMMARY:Brandon Reservoir Dogs vs Flowood Flyers
DESCRIPTION:
URL:https://legacyleaguebaseball.com/event/brandon-vs-flowood-2026-06-04/
LOCATION:Smith-Wills Stadium\, 1200 Lakeland Dr\, Jackson\, MS\, 39216\, United States
CATEGORIES:Brandon (BRN),Flowood (FLW)
END:VEVENT
END:VCALENDAR