BEGIN:VCALENDAR
VERSION:2.0
PRODID:-//Legacy League Baseball - ECPv6.15.20//NONSGML v1.0//EN
CALSCALE:GREGORIAN
METHOD:PUBLISH
X-WR-CALNAME:Legacy League Baseball
X-ORIGINAL-URL:https://legacyleaguebaseball.com
X-WR-CALDESC:Events for Legacy League Baseball
REFRESH-INTERVAL;VALUE=DURATION:PT1H
X-Robots-Tag:noindex
X-PUBLISHED-TTL:PT1H
BEGIN:VTIMEZONE
TZID:America/Chicago
BEGIN:DAYLIGHT
TZOFFSETFROM:-0600
TZOFFSETTO:-0500
TZNAME:CDT
DTSTART:20250309T080000
END:DAYLIGHT
BEGIN:STANDARD
TZOFFSETFROM:-0500
TZOFFSETTO:-0600
TZNAME:CST
DTSTART:20251102T070000
END:STANDARD
BEGIN:DAYLIGHT
TZOFFSETFROM:-0600
TZOFFSETTO:-0500
TZNAME:CDT
DTSTART:20260308T080000
END:DAYLIGHT
BEGIN:STANDARD
TZOFFSETFROM:-0500
TZOFFSETTO:-0600
TZNAME:CST
DTSTART:20261101T070000
END:STANDARD
BEGIN:DAYLIGHT
TZOFFSETFROM:-0600
TZOFFSETTO:-0500
TZNAME:CDT
DTSTART:20270314T080000
END:DAYLIGHT
BEGIN:STANDARD
TZOFFSETFROM:-0500
TZOFFSETTO:-0600
TZNAME:CST
DTSTART:20271107T070000
END:STANDARD
END:VTIMEZONE
BEGIN:VEVENT
DTSTART;TZID=America/Chicago:20260610T190000
DTEND;TZID=America/Chicago:20260610T210000
DTSTAMP:20260423T144100
CREATED:20251211T184229Z
LAST-MODIFIED:20260415T222420Z
UID:10000377-1781118000-1781125200@legacyleaguebaseball.com
SUMMARY:Development Day
DESCRIPTION:
URL:https://legacyleaguebaseball.com/event/development-2026-06-10/
LOCATION:Smith-Wills Stadium\, 1200 Lakeland Dr\, Jackson\, MS\, 39216\, United States
CATEGORIES:Brandon (BRN),Clutch Batters/Clinton(CLN),Flowood (FLW),Jackson (JXN),Madison (MAD),Ridgeland (RDG)
END:VEVENT
BEGIN:VEVENT
DTSTART;TZID=America/Chicago:20260611T160000
DTEND;TZID=America/Chicago:20260611T180000
DTSTAMP:20260423T144100
CREATED:20251211T184358Z
LAST-MODIFIED:20260415T222526Z
UID:10000379-1781193600-1781200800@legacyleaguebaseball.com
SUMMARY:Brandon Reservoir Dogs vs Flowood Flyers
DESCRIPTION:
URL:https://legacyleaguebaseball.com/event/brandon-vs-flowood-2026-06-11/
LOCATION:Smith-Wills Stadium\, 1200 Lakeland Dr\, Jackson\, MS\, 39216\, United States
CATEGORIES:Brandon (BRN),Flowood (FLW)
END:VEVENT
BEGIN:VEVENT
DTSTART;TZID=America/Chicago:20260612T130000
DTEND;TZID=America/Chicago:20260612T150000
DTSTAMP:20260423T144100
CREATED:20251211T184530Z
LAST-MODIFIED:20260415T222653Z
UID:10000381-1781269200-1781276400@legacyleaguebaseball.com
SUMMARY:Brandon Reservoir Dogs vs Flowood Flyers
DESCRIPTION:
URL:https://legacyleaguebaseball.com/event/brandon-vs-flowood-2026-06-12/
LOCATION:Smith-Wills Stadium\, 1200 Lakeland Dr\, Jackson\, MS\, 39216\, United States
CATEGORIES:Brandon (BRN),Flowood (FLW)
END:VEVENT
BEGIN:VEVENT
DTSTART;TZID=America/Chicago:20260613T190000
DTEND;TZID=America/Chicago:20260613T210000
DTSTAMP:20260423T144100
CREATED:20251211T184855Z
LAST-MODIFIED:20260415T222923Z
UID:10000386-1781377200-1781384400@legacyleaguebaseball.com
SUMMARY:Brandon Reservoir Dogs vs Clinton Big Wheels
DESCRIPTION:
URL:https://legacyleaguebaseball.com/event/brandon-vs-clinton-2026-06-13/
LOCATION:Smith-Wills Stadium\, 1200 Lakeland Dr\, Jackson\, MS\, 39216\, United States
CATEGORIES:Brandon (BRN),Clutch Batters/Clinton(CLN)
END:VEVENT
BEGIN:VEVENT
DTSTART;TZID=America/Chicago:20260614T190000
DTEND;TZID=America/Chicago:20260614T210000
DTSTAMP:20260423T144100
CREATED:20251211T185101Z
LAST-MODIFIED:20260415T223112Z
UID:10000389-1781463600-1781470800@legacyleaguebaseball.com
SUMMARY:Brandon Reservoir Dogs vs Flowood Flyers
DESCRIPTION:
URL:https://legacyleaguebaseball.com/event/brandon-vs-flowood-2026-06-14/
LOCATION:Smith-Wills Stadium\, 1200 Lakeland Dr\, Jackson\, MS\, 39216\, United States
CATEGORIES:Brandon (BRN),Flowood (FLW)
END:VEVENT
BEGIN:VEVENT
DTSTART;TZID=America/Chicago:20260616T190000
DTEND;TZID=America/Chicago:20260616T210000
DTSTAMP:20260423T144100
CREATED:20251211T185326Z
LAST-MODIFIED:20260415T223237Z
UID:10000392-1781636400-1781643600@legacyleaguebaseball.com
SUMMARY:Development Day
DESCRIPTION:
URL:https://legacyleaguebaseball.com/event/development-day-2026-06-16/
LOCATION:Smith-Wills Stadium\, 1200 Lakeland Dr\, Jackson\, MS\, 39216\, United States
CATEGORIES:Brandon (BRN),Clutch Batters/Clinton(CLN),Flowood (FLW),Jackson (JXN),Madison (MAD),Ridgeland (RDG)
END:VEVENT
BEGIN:VEVENT
DTSTART;TZID=America/Chicago:20260617T190000
DTEND;TZID=America/Chicago:20260617T210000
DTSTAMP:20260423T144100
CREATED:20251211T185523Z
LAST-MODIFIED:20260415T223158Z
UID:10000395-1781722800-1781730000@legacyleaguebaseball.com
SUMMARY:Development Day
DESCRIPTION:
URL:https://legacyleaguebaseball.com/event/development-day-2026-06-17/
LOCATION:Smith-Wills Stadium\, 1200 Lakeland Dr\, Jackson\, MS\, 39216\, United States
CATEGORIES:Brandon (BRN),Clutch Batters/Clinton(CLN),Flowood (FLW),Jackson (JXN),Madison (MAD),Ridgeland (RDG)
END:VEVENT
BEGIN:VEVENT
DTSTART;TZID=America/Chicago:20260618T160000
DTEND;TZID=America/Chicago:20260618T180000
DTSTAMP:20260423T144100
CREATED:20251211T185645Z
LAST-MODIFIED:20260415T223334Z
UID:10000397-1781798400-1781805600@legacyleaguebaseball.com
SUMMARY:Ridgeland Roosters vs Brandon Reservoir Dogs
DESCRIPTION:
URL:https://legacyleaguebaseball.com/event/ridgeland-vs-brandon-2026-06-18-2/
LOCATION:Smith-Wills Stadium\, 1200 Lakeland Dr\, Jackson\, MS\, 39216\, United States
CATEGORIES:Brandon (BRN),Ridgeland (RDG)
END:VEVENT
BEGIN:VEVENT
DTSTART;TZID=America/Chicago:20260619T190000
DTEND;TZID=America/Chicago:20260619T210000
DTSTAMP:20260423T144100
CREATED:20251211T185925Z
LAST-MODIFIED:20260415T223631Z
UID:10000401-1781895600-1781902800@legacyleaguebaseball.com
SUMMARY:Clinton Big Wheels vs Brandon Reservoir Dogs
DESCRIPTION:
URL:https://legacyleaguebaseball.com/event/clinton-vs-brandon-2026-06-19/
LOCATION:Smith-Wills Stadium\, 1200 Lakeland Dr\, Jackson\, MS\, 39216\, United States
CATEGORIES:Brandon (BRN),Clutch Batters/Clinton(CLN)
END:VEVENT
BEGIN:VEVENT
DTSTART;TZID=America/Chicago:20260620T160000
DTEND;TZID=America/Chicago:20260620T180000
DTSTAMP:20260423T144100
CREATED:20251211T190046Z
LAST-MODIFIED:20260415T223800Z
UID:10000403-1781971200-1781978400@legacyleaguebaseball.com
SUMMARY:Brandon Reservoir Dogs vs Madison Mockingbirds
DESCRIPTION:
URL:https://legacyleaguebaseball.com/event/brandon-vs-madison-2026-06-20/
LOCATION:Smith-Wills Stadium\, 1200 Lakeland Dr\, Jackson\, MS\, 39216\, United States
CATEGORIES:Brandon (BRN),Madison (MAD)
END:VEVENT
BEGIN:VEVENT
DTSTART;TZID=America/Chicago:20260621T190000
DTEND;TZID=America/Chicago:20260621T210000
DTSTAMP:20260423T144100
CREATED:20251211T190322Z
LAST-MODIFIED:20260417T205047Z
UID:10000407-1782068400-1782075600@legacyleaguebaseball.com
SUMMARY:Madison Mockingbirds vs Brandon Reservoir Dogs
DESCRIPTION:
URL:https://legacyleaguebaseball.com/event/flowood-vs-jackson-2026-06-21/
LOCATION:Smith-Wills Stadium\, 1200 Lakeland Dr\, Jackson\, MS\, 39216\, United States
CATEGORIES:Brandon (BRN),Madison (MAD)
END:VEVENT
BEGIN:VEVENT
DTSTART;TZID=America/Chicago:20260623T130000
DTEND;TZID=America/Chicago:20260623T150000
DTSTAMP:20260423T144100
CREATED:20251211T190404Z
LAST-MODIFIED:20260417T205323Z
UID:10000408-1782219600-1782226800@legacyleaguebaseball.com
SUMMARY:Development Day
DESCRIPTION:
URL:https://legacyleaguebaseball.com/event/development-day-2026-06-23/
LOCATION:Smith-Wills Stadium\, 1200 Lakeland Dr\, Jackson\, MS\, 39216\, United States
CATEGORIES:Brandon (BRN),Clutch Batters/Clinton(CLN),Flowood (FLW),Jackson (JXN),Madison (MAD),Ridgeland (RDG)
END:VEVENT
BEGIN:VEVENT
DTSTART;TZID=America/Chicago:20260624T190000
DTEND;TZID=America/Chicago:20260624T210000
DTSTAMP:20260423T144100
CREATED:20251211T190746Z
LAST-MODIFIED:20260417T205339Z
UID:10000413-1782327600-1782334800@legacyleaguebaseball.com
SUMMARY:Development Day
DESCRIPTION:
URL:https://legacyleaguebaseball.com/event/development-day-2026-06-24/
LOCATION:Smith-Wills Stadium\, 1200 Lakeland Dr\, Jackson\, MS\, 39216\, United States
CATEGORIES:Brandon (BRN),Clutch Batters/Clinton(CLN),Flowood (FLW),Jackson (JXN),Madison (MAD),Ridgeland (RDG)
END:VEVENT
BEGIN:VEVENT
DTSTART;TZID=America/Chicago:20260625T190000
DTEND;TZID=America/Chicago:20260625T210000
DTSTAMP:20260423T144100
CREATED:20251211T190949Z
LAST-MODIFIED:20260417T205721Z
UID:10000416-1782414000-1782421200@legacyleaguebaseball.com
SUMMARY:Brandon Reservoir Dogs vs Ridgeland Roosters
DESCRIPTION:
URL:https://legacyleaguebaseball.com/event/brandon-vs-ridgeland-2026-06-25/
LOCATION:Smith-Wills Stadium\, 1200 Lakeland Dr\, Jackson\, MS\, 39216\, United States
CATEGORIES:Brandon (BRN),Ridgeland (RDG)
END:VEVENT
BEGIN:VEVENT
DTSTART;TZID=America/Chicago:20260626T160000
DTEND;TZID=America/Chicago:20260626T180000
DTSTAMP:20260423T144100
CREATED:20251211T191113Z
LAST-MODIFIED:20260417T205919Z
UID:10000418-1782489600-1782496800@legacyleaguebaseball.com
SUMMARY:Brandon Reservoir Dogs vs Madison Mockingbirds
DESCRIPTION:
URL:https://legacyleaguebaseball.com/event/brandon-vs-madison-2026-06-26/
LOCATION:Smith-Wills Stadium\, 1200 Lakeland Dr\, Jackson\, MS\, 39216\, United States
CATEGORIES:Brandon (BRN),Madison (MAD)
END:VEVENT
BEGIN:VEVENT
DTSTART;TZID=America/Chicago:20260627T190000
DTEND;TZID=America/Chicago:20260627T210000
DTSTAMP:20260423T144100
CREATED:20260417T210614Z
LAST-MODIFIED:20260417T210614Z
UID:10000434-1782586800-1782594000@legacyleaguebaseball.com
SUMMARY:Brandon Reservoir Dogs vs New Jack City
DESCRIPTION:
URL:https://legacyleaguebaseball.com/event/brandon-reservoir-dogs-vs-new-jack-city/
LOCATION:Smith-Wills Stadium\, 1200 Lakeland Dr\, Jackson\, MS\, 39216\, United States
CATEGORIES:Brandon (BRN),Jackson (JXN)
END:VEVENT
BEGIN:VEVENT
DTSTART;TZID=America/Chicago:20260628T130000
DTEND;TZID=America/Chicago:20260628T150000
DTSTAMP:20260423T144100
CREATED:20260417T210704Z
LAST-MODIFIED:20260417T210704Z
UID:10000435-1782651600-1782658800@legacyleaguebaseball.com
SUMMARY:New Jack City vs Brandon Reservoir Dogs
DESCRIPTION:
URL:https://legacyleaguebaseball.com/event/new-jack-city-vs-brandon-reservoir-dogs/
LOCATION:Smith-Wills Stadium\, 1200 Lakeland Dr\, Jackson\, MS\, 39216\, United States
CATEGORIES:Brandon (BRN),Jackson (JXN)
END:VEVENT
END:VCALENDAR