BEGIN:VCALENDAR
VERSION:2.0
PRODID:-//Legacy League Baseball - ECPv6.15.20//NONSGML v1.0//EN
CALSCALE:GREGORIAN
METHOD:PUBLISH
X-WR-CALNAME:Legacy League Baseball
X-ORIGINAL-URL:https://legacyleaguebaseball.com
X-WR-CALDESC:Events for Legacy League Baseball
REFRESH-INTERVAL;VALUE=DURATION:PT1H
X-Robots-Tag:noindex
X-PUBLISHED-TTL:PT1H
BEGIN:VTIMEZONE
TZID:America/Chicago
BEGIN:DAYLIGHT
TZOFFSETFROM:-0600
TZOFFSETTO:-0500
TZNAME:CDT
DTSTART:20250309T080000
END:DAYLIGHT
BEGIN:STANDARD
TZOFFSETFROM:-0500
TZOFFSETTO:-0600
TZNAME:CST
DTSTART:20251102T070000
END:STANDARD
BEGIN:DAYLIGHT
TZOFFSETFROM:-0600
TZOFFSETTO:-0500
TZNAME:CDT
DTSTART:20260308T080000
END:DAYLIGHT
BEGIN:STANDARD
TZOFFSETFROM:-0500
TZOFFSETTO:-0600
TZNAME:CST
DTSTART:20261101T070000
END:STANDARD
BEGIN:DAYLIGHT
TZOFFSETFROM:-0600
TZOFFSETTO:-0500
TZNAME:CDT
DTSTART:20270314T080000
END:DAYLIGHT
BEGIN:STANDARD
TZOFFSETFROM:-0500
TZOFFSETTO:-0600
TZNAME:CST
DTSTART:20271107T070000
END:STANDARD
END:VTIMEZONE
BEGIN:VEVENT
DTSTART;TZID=America/Chicago:20260607T130000
DTEND;TZID=America/Chicago:20260607T150000
DTSTAMP:20260423T130240
CREATED:20251211T183647Z
LAST-MODIFIED:20260415T222033Z
UID:10000369-1780837200-1780844400@legacyleaguebaseball.com
SUMMARY:Madison Mockingbirds vs Ridgeland Roosters
DESCRIPTION:
URL:https://legacyleaguebaseball.com/event/madison-vs-ridgeland-2026-06-07/
LOCATION:Smith-Wills Stadium\, 1200 Lakeland Dr\, Jackson\, MS\, 39216\, United States
CATEGORIES:Madison (MAD),Ridgeland (RDG)
END:VEVENT
BEGIN:VEVENT
DTSTART;TZID=America/Chicago:20260607T160000
DTEND;TZID=America/Chicago:20260607T180000
DTSTAMP:20260423T130240
CREATED:20251211T183730Z
LAST-MODIFIED:20260415T222220Z
UID:10000370-1780848000-1780855200@legacyleaguebaseball.com
SUMMARY:New Jack City vs Flowood Flyers
DESCRIPTION:
URL:https://legacyleaguebaseball.com/event/jackson-vs-flowood-2026-06-07/
LOCATION:Smith-Wills Stadium\, 1200 Lakeland Dr\, Jackson\, MS\, 39216\, United States
CATEGORIES:Flowood (FLW),Jackson (JXN)
END:VEVENT
BEGIN:VEVENT
DTSTART;TZID=America/Chicago:20260607T190000
DTEND;TZID=America/Chicago:20260607T210000
DTSTAMP:20260423T130240
CREATED:20251211T183809Z
LAST-MODIFIED:20260415T222259Z
UID:10000371-1780858800-1780866000@legacyleaguebaseball.com
SUMMARY:Clinton Big Wheels vs Brandon Reservoir Dogs
DESCRIPTION:
URL:https://legacyleaguebaseball.com/event/clinton-vs-brandon-2026-06-07/
LOCATION:Smith-Wills Stadium\, 1200 Lakeland Dr\, Jackson\, MS\, 39216\, United States
CATEGORIES:Brandon (BRN),Clutch Batters/Clinton(CLN)
END:VEVENT
END:VCALENDAR