BEGIN:VCALENDAR
VERSION:2.0
PRODID:-//Legacy League Baseball - ECPv6.15.20//NONSGML v1.0//EN
CALSCALE:GREGORIAN
METHOD:PUBLISH
X-ORIGINAL-URL:https://legacyleaguebaseball.com
X-WR-CALDESC:Events for Legacy League Baseball
REFRESH-INTERVAL;VALUE=DURATION:PT1H
X-Robots-Tag:noindex
X-PUBLISHED-TTL:PT1H
BEGIN:VTIMEZONE
TZID:America/Chicago
BEGIN:DAYLIGHT
TZOFFSETFROM:-0600
TZOFFSETTO:-0500
TZNAME:CDT
DTSTART:20250309T080000
END:DAYLIGHT
BEGIN:STANDARD
TZOFFSETFROM:-0500
TZOFFSETTO:-0600
TZNAME:CST
DTSTART:20251102T070000
END:STANDARD
BEGIN:DAYLIGHT
TZOFFSETFROM:-0600
TZOFFSETTO:-0500
TZNAME:CDT
DTSTART:20260308T080000
END:DAYLIGHT
BEGIN:STANDARD
TZOFFSETFROM:-0500
TZOFFSETTO:-0600
TZNAME:CST
DTSTART:20261101T070000
END:STANDARD
BEGIN:DAYLIGHT
TZOFFSETFROM:-0600
TZOFFSETTO:-0500
TZNAME:CDT
DTSTART:20270314T080000
END:DAYLIGHT
BEGIN:STANDARD
TZOFFSETFROM:-0500
TZOFFSETTO:-0600
TZNAME:CST
DTSTART:20271107T070000
END:STANDARD
END:VTIMEZONE
BEGIN:VEVENT
DTSTART;TZID=America/Chicago:20260531T130000
DTEND;TZID=America/Chicago:20260531T150000
DTSTAMP:20260423T114900
CREATED:20251210T211908Z
LAST-MODIFIED:20260415T221245Z
UID:10000351-1780232400-1780239600@legacyleaguebaseball.com
SUMMARY:Flowood Flyers vs Ridgeland Roosters
DESCRIPTION:
URL:https://legacyleaguebaseball.com/event/flowood-vs-ridgeland-2026-05-31/
LOCATION:Smith-Wills Stadium\, 1200 Lakeland Dr\, Jackson\, MS\, 39216\, United States
CATEGORIES:Flowood (FLW),Ridgeland (RDG)
END:VEVENT
BEGIN:VEVENT
DTSTART;TZID=America/Chicago:20260531T160000
DTEND;TZID=America/Chicago:20260531T180000
DTSTAMP:20260423T114900
CREATED:20251210T211957Z
LAST-MODIFIED:20260415T221305Z
UID:10000352-1780243200-1780250400@legacyleaguebaseball.com
SUMMARY:Madison Mockingbirds vs Clinton Big Wheels
DESCRIPTION:
URL:https://legacyleaguebaseball.com/event/madison-vs-clinton-2026-05-31/
LOCATION:Smith-Wills Stadium\, 1200 Lakeland Dr\, Jackson\, MS\, 39216\, United States
CATEGORIES:Clutch Batters/Clinton(CLN),Madison (MAD)
END:VEVENT
BEGIN:VEVENT
DTSTART;TZID=America/Chicago:20260531T190000
DTEND;TZID=America/Chicago:20260531T210000
DTSTAMP:20260423T114900
CREATED:20251210T212040Z
LAST-MODIFIED:20260415T221317Z
UID:10000353-1780254000-1780261200@legacyleaguebaseball.com
SUMMARY:New Jack City vs Brandon Reservoir Dogs
DESCRIPTION:
URL:https://legacyleaguebaseball.com/event/clinton-vs-flowood-2026-05-31/
LOCATION:Smith-Wills Stadium\, 1200 Lakeland Dr\, Jackson\, MS\, 39216\, United States
CATEGORIES:Brandon (BRN),Jackson (JXN)
END:VEVENT
END:VCALENDAR